Workbook

Sheet Заявка
A1: Заявка на участие в VIII Международной интеллектуальной игре «Нефтяная сова»
A3: 1. Сведения об организации и команде
A4: Полное наименование организации (в соответствии с учредительными документами)
A5: Сокращенное наименование организации (в соответствии с учредительными документами)
A6: Страна | D6: Субъект/регион | G6: Город
A7: Наименование команды
A8: E-mail капитана | C8: igra@ng-sova.ru | D8: Мобильный телефон капитана | E8: +7 (999) 999-99-99 | G8: Ссылка на активную социальную сеть капитана
A10: 2. Состав команды
A11: № | B11: Статус | C11: ФИО полностью | D11: Должность / статус | E11: Дата рождения | F11: Гражданство | G11: Примечание
A12: 1 | B12: Капитан
A13: 2 | B13: Участник
A14: 3 | B14: Участник
A15: 4 | B15: Участник
A16: 5 | B16: Участник
A17: Зап. 1 | B17: Запасной
A18: Зап. 2 | B18: Запасной
A20: 3. Письмо-приглашение
A21: Необходимо ли официальное письмо-приглашение | E21: Должность руководителя | G21: например: Генеральный директор
A22: ФИО руководителя в именительном падеже | D22: Иванов Иван Иванович
A23: ФИО руководителя в дательном падеже | D23: Иванову Ивану Ивановичу
A25: 4. Дополнительная информация
A26: Участие в аналогичных мероприятиях, достижения команды, дополнительная информация для Оргкомитета
A29: Поля для заполнения выделены белым цветом. В блоке «Дополнительная информация» можно указать участие в аналогичных мероприятиях, достижения команды или иную важную информацию. В составе команды предусмотрены 5 основных участников и 2 запасных участника. При отсутствии запасных строки можно оставить пустыми. В случае указания иного гражданства необходимо также направить скан паспорта.

Sheet Для_переноса
A1: Полное наименование организации | B1: Сокращенное наименование организации | C1: Страна | D1: Субъект РФ / регион | E1: Город | F1: Наименование команды | G1: ФИО капитана | H1: E-mail капитана | I1: Телефон капитана | J1: Социальная сеть капитана | K1: Нужно ли письмо с ответом | L1: Должность руководителя | M1: ФИО руководителя (именительный падеж) | N1: ФИО руководителя (дательный падеж) | O1: Статус участника | P1: № | Q1: ФИО участника | R1: Должность / статус | S1: Дата рождения | T1: Возраст | U1: Гражданство | V1: Примечание | W1: Дополнительная информация о команде
A2: =IF(COUNTA(Заявка!$C12:$G12)>0,IF(OR(TRIM(Заявка!$C$4&"")=""),"-",TRIM(Заявка!$C$4&"")),"") | B2: =IF(COUNTA(Заявка!$C12:$G12)>0,IF(OR(TRIM(Заявка!$C$5&"")=""),"-",TRIM(Заявка!$C$5&"")),"") | C2: =IF(COUNTA(Заявка!$C12:$G12)>0,IF(OR(TRIM(Заявка!$C$6&"")=""),"-",TRIM(Заявка!$C$6&"")),"") | D2: =IF(COUNTA(Заявка!$C12:$G12)>0,IF(OR(TRIM(Заявка!$E$6&"")=""),"-",TRIM(Заявка!$E$6&"")),"") | E2: =IF(COUNTA(Заявка!$C12:$G12)>0,IF(OR(TRIM(Заявка!$H$6&"")=""),"-",TRIM(Заявка!$H$6&"")),"") | F2: =IF(COUNTA(Заявка!$C12:$G12)>0,IF(OR(TRIM(Заявка!$C$7&"")=""),"-",TRIM(Заявка!$C$7&"")),"") | G2: =IF(COUNTA(Заявка!$C12:$G12)>0,IF(OR(TRIM(Заявка!$C$12&"")=""),"-",PROPER(TRIM(Заявка!$C$12&""))),"") | H2: =IF(COUNTA(Заявка!$C12:$G12)>0,IF(OR(TRIM(Заявка!$C$8&"")="",TRIM(Заявка!$C$8&"")="igra@ng-sova.ru"),"-",TRIM(Заявка!$C$8&"")),"") | I2: =IF(COUNTA(Заявка!$C12:$G12)>0,IF(OR(TRIM(Заявка!$E$8&"")="",TRIM(Заявка!$E$8&"")="+7 (999) 999-99-99"),"-",TRIM(Заявка!$E$8&"")),"") | J2: =IF(COUNTA(Заявка!$C12:$G12)>0,IF(OR(TRIM(Заявка!$H$8&"")="",TRIM(Заявка!$H$8&"")="https://t.me/username"),"-",TRIM(Заявка!$H$8&"")),"") | K2: =IF(COUNTA(Заявка!$C12:$G12)>0,IF(OR(TRIM(Заявка!$D$21&"")=""),"-",TRIM(Заявка!$D$21&"")),"") | L2: =IF(COUNTA(Заявка!$C12:$G12)>0,IF(TRIM(Заявка!$D$21&"")="Да",IF(OR(TRIM(Заявка!$G$21&"")="",TRIM(Заявка!$G$21&"")="например: Генеральный директор"),"-",TRIM(Заявка!$G$21&"")),"-"),"") | M2: =IF(COUNTA(Заявка!$C12:$G12)>0,IF(TRIM(Заявка!$D$21&"")="Да",IF(OR(TRIM(Заявка!$D$22&"")="",TRIM(Заявка!$D$22&"")="Иванов Иван Иванович"),"-",PROPER(TRIM(Заявка!$D$22&""))),"-"),"") | N2: =IF(COUNTA(Заявка!$C12:$G12)>0,IF(TRIM(Заявка!$D$21&"")="Да",IF(OR(TRIM(Заявка!$D$23&"")="",TRIM(Заявка!$D$23&"")="Иванову Ивану Ивановичу"),"-",PROPER(TRIM(Заявка!$D$23&""))),"-"),"") | O2: =IF(COUNTA(Заявка!$C12:$G12)>0,IF(OR(TRIM(Заявка!$B12&"")=""),"-",TRIM(Заявка!$B12&"")),"") | P2: =IF(COUNTA(Заявка!$C12:$G12)>0,IF(OR(TRIM(Заявка!$A12&"")=""),"-",TRIM(Заявка!$A12&"")),"") | Q2: =IF(COUNTA(Заявка!$C12:$G12)>0,IF(OR(TRIM(Заявка!$C12&"")=""),"-",PROPER(TRIM(Заявка!$C12&""))),"") | R2: =IF(COUNTA(Заявка!$C12:$G12)>0,IF(OR(TRIM(Заявка!$D12&"")=""),"-",TRIM(Заявка!$D12&"")),"") | S2: =IF(COUNTA(Заявка!$C12:$G12)>0,IF(OR(Заявка!$E12="",NOT(ISNUMBER(Заявка!$E12))),"-",Заявка!$E12),"") | T2: =IF(COUNTA(Заявка!$C12:$G12)>0,IF(OR(Заявка!$E12="",NOT(ISNUMBER(Заявка!$E12))),"-",DATEDIF(Заявка!$E12,DATE(2026,12,4),"Y")),"") | U2: =IF(COUNTA(Заявка!$C12:$G12)>0,IF(OR(TRIM(Заявка!$F12&"")=""),"-",TRIM(Заявка!$F12&"")),"") | V2: =IF(COUNTA(Заявка!$C12:$G12)>0,IF(OR(TRIM(Заявка!$G12&"")=""),"-",TRIM(Заявка!$G12&"")),"") | W2: =IF(COUNTA(Заявка!$C12:$G12)>0,IF(OR(TRIM(Заявка!$A$27&"")=""),"-",TRIM(Заявка!$A$27&"")),"")
A3: =IF(COUNTA(Заявка!$C13:$G13)>0,IF(OR(TRIM(Заявка!$C$4&"")=""),"-",TRIM(Заявка!$C$4&"")),"") | B3: =IF(COUNTA(Заявка!$C13:$G13)>0,IF(OR(TRIM(Заявка!$C$5&"")=""),"-",TRIM(Заявка!$C$5&"")),"") | C3: =IF(COUNTA(Заявка!$C13:$G13)>0,IF(OR(TRIM(Заявка!$C$6&"")=""),"-",TRIM(Заявка!$C$6&"")),"") | D3: =IF(COUNTA(Заявка!$C13:$G13)>0,IF(OR(TRIM(Заявка!$E$6&"")=""),"-",TRIM(Заявка!$E$6&"")),"") | E3: =IF(COUNTA(Заявка!$C13:$G13)>0,IF(OR(TRIM(Заявка!$H$6&"")=""),"-",TRIM(Заявка!$H$6&"")),"") | F3: =IF(COUNTA(Заявка!$C13:$G13)>0,IF(OR(TRIM(Заявка!$C$7&"")=""),"-",TRIM(Заявка!$C$7&"")),"") | G3: =IF(COUNTA(Заявка!$C13:$G13)>0,IF(OR(TRIM(Заявка!$C$12&"")=""),"-",PROPER(TRIM(Заявка!$C$12&""))),"") | H3: =IF(COUNTA(Заявка!$C13:$G13)>0,IF(OR(TRIM(Заявка!$B$8&"")="",TRIM(Заявка!$B$8&"")="igra@ng-sova.ru"),"-",TRIM(Заявка!$B$8&"")),"") | I3: =IF(COUNTA(Заявка!$C13:$G13)>0,IF(OR(TRIM(Заявка!$E$8&"")="",TRIM(Заявка!$E$8&"")="+7 (999) 999-99-99"),"-",TRIM(Заявка!$E$8&"")),"") | J3: =IF(COUNTA(Заявка!$C13:$G13)>0,IF(OR(TRIM(Заявка!$H$8&"")="",TRIM(Заявка!$H$8&"")="https://t.me/username"),"-",TRIM(Заявка!$H$8&"")),"") | K3: =IF(COUNTA(Заявка!$C13:$G13)>0,IF(OR(TRIM(Заявка!$D$21&"")=""),"-",TRIM(Заявка!$D$21&"")),"") | L3: =IF(COUNTA(Заявка!$C13:$G13)>0,IF(TRIM(Заявка!$D$21&"")="Да",IF(OR(TRIM(Заявка!$G$21&"")="",TRIM(Заявка!$G$21&"")="например: Генеральный директор"),"-",TRIM(Заявка!$G$21&"")),"-"),"") | M3: =IF(COUNTA(Заявка!$C13:$G13)>0,IF(TRIM(Заявка!$D$21&"")="Да",IF(OR(TRIM(Заявка!$D$22&"")="",TRIM(Заявка!$D$22&"")="Иванов Иван Иванович"),"-",PROPER(TRIM(Заявка!$D$22&""))),"-"),"") | N3: =IF(COUNTA(Заявка!$C13:$G13)>0,IF(TRIM(Заявка!$D$21&"")="Да",IF(OR(TRIM(Заявка!$D$23&"")="",TRIM(Заявка!$D$23&"")="Иванову Ивану Ивановичу"),"-",PROPER(TRIM(Заявка!$D$23&""))),"-"),"") | O3: =IF(COUNTA(Заявка!$C13:$G13)>0,IF(OR(TRIM(Заявка!$B13&"")=""),"-",TRIM(Заявка!$B13&"")),"") | P3: =IF(COUNTA(Заявка!$C13:$G13)>0,IF(OR(TRIM(Заявка!$A13&"")=""),"-",TRIM(Заявка!$A13&"")),"") | Q3: =IF(COUNTA(Заявка!$C13:$G13)>0,IF(OR(TRIM(Заявка!$C13&"")=""),"-",PROPER(TRIM(Заявка!$C13&""))),"") | R3: =IF(COUNTA(Заявка!$C13:$G13)>0,IF(OR(TRIM(Заявка!$D13&"")=""),"-",TRIM(Заявка!$D13&"")),"") | S3: =IF(COUNTA(Заявка!$C13:$G13)>0,IF(OR(Заявка!$E13="",NOT(ISNUMBER(Заявка!$E13))),"-",Заявка!$E13),"") | T3: =IF(COUNTA(Заявка!$C13:$G13)>0,IF(OR(Заявка!$E13="",NOT(ISNUMBER(Заявка!$E13))),"-",DATEDIF(Заявка!$E13,DATE(2026,12,4),"Y")),"") | U3: =IF(COUNTA(Заявка!$C13:$G13)>0,IF(OR(TRIM(Заявка!$F13&"")=""),"-",TRIM(Заявка!$F13&"")),"") | V3: =IF(COUNTA(Заявка!$C13:$G13)>0,IF(OR(TRIM(Заявка!$G13&"")=""),"-",TRIM(Заявка!$G13&"")),"") | W3: =IF(COUNTA(Заявка!$C13:$G13)>0,IF(OR(TRIM(Заявка!$A$27&"")=""),"-",TRIM(Заявка!$A$27&"")),"")
A4: =IF(COUNTA(Заявка!$C14:$G14)>0,IF(OR(TRIM(Заявка!$C$4&"")=""),"-",TRIM(Заявка!$C$4&"")),"") | B4: =IF(COUNTA(Заявка!$C14:$G14)>0,IF(OR(TRIM(Заявка!$C$5&"")=""),"-",TRIM(Заявка!$C$5&"")),"") | C4: =IF(COUNTA(Заявка!$C14:$G14)>0,IF(OR(TRIM(Заявка!$C$6&"")=""),"-",TRIM(Заявка!$C$6&"")),"") | D4: =IF(COUNTA(Заявка!$C14:$G14)>0,IF(OR(TRIM(Заявка!$E$6&"")=""),"-",TRIM(Заявка!$E$6&"")),"") | E4: =IF(COUNTA(Заявка!$C14:$G14)>0,IF(OR(TRIM(Заявка!$H$6&"")=""),"-",TRIM(Заявка!$H$6&"")),"") | F4: =IF(COUNTA(Заявка!$C14:$G14)>0,IF(OR(TRIM(Заявка!$C$7&"")=""),"-",TRIM(Заявка!$C$7&"")),"") | G4: =IF(COUNTA(Заявка!$C14:$G14)>0,IF(OR(TRIM(Заявка!$C$12&"")=""),"-",PROPER(TRIM(Заявка!$C$12&""))),"") | H4: =IF(COUNTA(Заявка!$C14:$G14)>0,IF(OR(TRIM(Заявка!$B$8&"")="",TRIM(Заявка!$B$8&"")="igra@ng-sova.ru"),"-",TRIM(Заявка!$B$8&"")),"") | I4: =IF(COUNTA(Заявка!$C14:$G14)>0,IF(OR(TRIM(Заявка!$E$8&"")="",TRIM(Заявка!$E$8&"")="+7 (999) 999-99-99"),"-",TRIM(Заявка!$E$8&"")),"") | J4: =IF(COUNTA(Заявка!$C14:$G14)>0,IF(OR(TRIM(Заявка!$H$8&"")="",TRIM(Заявка!$H$8&"")="https://t.me/username"),"-",TRIM(Заявка!$H$8&"")),"") | K4: =IF(COUNTA(Заявка!$C14:$G14)>0,IF(OR(TRIM(Заявка!$D$21&"")=""),"-",TRIM(Заявка!$D$21&"")),"") | L4: =IF(COUNTA(Заявка!$C14:$G14)>0,IF(TRIM(Заявка!$D$21&"")="Да",IF(OR(TRIM(Заявка!$G$21&"")="",TRIM(Заявка!$G$21&"")="например: Генеральный директор"),"-",TRIM(Заявка!$G$21&"")),"-"),"") | M4: =IF(COUNTA(Заявка!$C14:$G14)>0,IF(TRIM(Заявка!$D$21&"")="Да",IF(OR(TRIM(Заявка!$D$22&"")="",TRIM(Заявка!$D$22&"")="Иванов Иван Иванович"),"-",PROPER(TRIM(Заявка!$D$22&""))),"-"),"") | N4: =IF(COUNTA(Заявка!$C14:$G14)>0,IF(TRIM(Заявка!$D$21&"")="Да",IF(OR(TRIM(Заявка!$D$23&"")="",TRIM(Заявка!$D$23&"")="Иванову Ивану Ивановичу"),"-",PROPER(TRIM(Заявка!$D$23&""))),"-"),"") | O4: =IF(COUNTA(Заявка!$C14:$G14)>0,IF(OR(TRIM(Заявка!$B14&"")=""),"-",TRIM(Заявка!$B14&"")),"") | P4: =IF(COUNTA(Заявка!$C14:$G14)>0,IF(OR(TRIM(Заявка!$A14&"")=""),"-",TRIM(Заявка!$A14&"")),"") | Q4: =IF(COUNTA(Заявка!$C14:$G14)>0,IF(OR(TRIM(Заявка!$C14&"")=""),"-",PROPER(TRIM(Заявка!$C14&""))),"") | R4: =IF(COUNTA(Заявка!$C14:$G14)>0,IF(OR(TRIM(Заявка!$D14&"")=""),"-",TRIM(Заявка!$D14&"")),"") | S4: =IF(COUNTA(Заявка!$C14:$G14)>0,IF(OR(Заявка!$E14="",NOT(ISNUMBER(Заявка!$E14))),"-",Заявка!$E14),"") | T4: =IF(COUNTA(Заявка!$C14:$G14)>0,IF(OR(Заявка!$E14="",NOT(ISNUMBER(Заявка!$E14))),"-",DATEDIF(Заявка!$E14,DATE(2026,12,4),"Y")),"") | U4: =IF(COUNTA(Заявка!$C14:$G14)>0,IF(OR(TRIM(Заявка!$F14&"")=""),"-",TRIM(Заявка!$F14&"")),"") | V4: =IF(COUNTA(Заявка!$C14:$G14)>0,IF(OR(TRIM(Заявка!$G14&"")=""),"-",TRIM(Заявка!$G14&"")),"") | W4: =IF(COUNTA(Заявка!$C14:$G14)>0,IF(OR(TRIM(Заявка!$A$27&"")=""),"-",TRIM(Заявка!$A$27&"")),"")
A5: =IF(COUNTA(Заявка!$C15:$G15)>0,IF(OR(TRIM(Заявка!$C$4&"")=""),"-",TRIM(Заявка!$C$4&"")),"") | B5: =IF(COUNTA(Заявка!$C15:$G15)>0,IF(OR(TRIM(Заявка!$C$5&"")=""),"-",TRIM(Заявка!$C$5&"")),"") | C5: =IF(COUNTA(Заявка!$C15:$G15)>0,IF(OR(TRIM(Заявка!$C$6&"")=""),"-",TRIM(Заявка!$C$6&"")),"") | D5: =IF(COUNTA(Заявка!$C15:$G15)>0,IF(OR(TRIM(Заявка!$E$6&"")=""),"-",TRIM(Заявка!$E$6&"")),"") | E5: =IF(COUNTA(Заявка!$C15:$G15)>0,IF(OR(TRIM(Заявка!$H$6&"")=""),"-",TRIM(Заявка!$H$6&"")),"") | F5: =IF(COUNTA(Заявка!$C15:$G15)>0,IF(OR(TRIM(Заявка!$C$7&"")=""),"-",TRIM(Заявка!$C$7&"")),"") | G5: =IF(COUNTA(Заявка!$C15:$G15)>0,IF(OR(TRIM(Заявка!$C$12&"")=""),"-",PROPER(TRIM(Заявка!$C$12&""))),"") | H5: =IF(COUNTA(Заявка!$C15:$G15)>0,IF(OR(TRIM(Заявка!$B$8&"")="",TRIM(Заявка!$B$8&"")="igra@ng-sova.ru"),"-",TRIM(Заявка!$B$8&"")),"") | I5: =IF(COUNTA(Заявка!$C15:$G15)>0,IF(OR(TRIM(Заявка!$E$8&"")="",TRIM(Заявка!$E$8&"")="+7 (999) 999-99-99"),"-",TRIM(Заявка!$E$8&"")),"") | J5: =IF(COUNTA(Заявка!$C15:$G15)>0,IF(OR(TRIM(Заявка!$H$8&"")="",TRIM(Заявка!$H$8&"")="https://t.me/username"),"-",TRIM(Заявка!$H$8&"")),"") | K5: =IF(COUNTA(Заявка!$C15:$G15)>0,IF(OR(TRIM(Заявка!$D$21&"")=""),"-",TRIM(Заявка!$D$21&"")),"") | L5: =IF(COUNTA(Заявка!$C15:$G15)>0,IF(TRIM(Заявка!$D$21&"")="Да",IF(OR(TRIM(Заявка!$G$21&"")="",TRIM(Заявка!$G$21&"")="например: Генеральный директор"),"-",TRIM(Заявка!$G$21&"")),"-"),"") | M5: =IF(COUNTA(Заявка!$C15:$G15)>0,IF(TRIM(Заявка!$D$21&"")="Да",IF(OR(TRIM(Заявка!$D$22&"")="",TRIM(Заявка!$D$22&"")="Иванов Иван Иванович"),"-",PROPER(TRIM(Заявка!$D$22&""))),"-"),"") | N5: =IF(COUNTA(Заявка!$C15:$G15)>0,IF(TRIM(Заявка!$D$21&"")="Да",IF(OR(TRIM(Заявка!$D$23&"")="",TRIM(Заявка!$D$23&"")="Иванову Ивану Ивановичу"),"-",PROPER(TRIM(Заявка!$D$23&""))),"-"),"") | O5: =IF(COUNTA(Заявка!$C15:$G15)>0,IF(OR(TRIM(Заявка!$B15&"")=""),"-",TRIM(Заявка!$B15&"")),"") | P5: =IF(COUNTA(Заявка!$C15:$G15)>0,IF(OR(TRIM(Заявка!$A15&"")=""),"-",TRIM(Заявка!$A15&"")),"") | Q5: =IF(COUNTA(Заявка!$C15:$G15)>0,IF(OR(TRIM(Заявка!$C15&"")=""),"-",PROPER(TRIM(Заявка!$C15&""))),"") | R5: =IF(COUNTA(Заявка!$C15:$G15)>0,IF(OR(TRIM(Заявка!$D15&"")=""),"-",TRIM(Заявка!$D15&"")),"") | S5: =IF(COUNTA(Заявка!$C15:$G15)>0,IF(OR(Заявка!$E15="",NOT(ISNUMBER(Заявка!$E15))),"-",Заявка!$E15),"") | T5: =IF(COUNTA(Заявка!$C15:$G15)>0,IF(OR(Заявка!$E15="",NOT(ISNUMBER(Заявка!$E15))),"-",DATEDIF(Заявка!$E15,DATE(2026,12,4),"Y")),"") | U5: =IF(COUNTA(Заявка!$C15:$G15)>0,IF(OR(TRIM(Заявка!$F15&"")=""),"-",TRIM(Заявка!$F15&"")),"") | V5: =IF(COUNTA(Заявка!$C15:$G15)>0,IF(OR(TRIM(Заявка!$G15&"")=""),"-",TRIM(Заявка!$G15&"")),"") | W5: =IF(COUNTA(Заявка!$C15:$G15)>0,IF(OR(TRIM(Заявка!$A$27&"")=""),"-",TRIM(Заявка!$A$27&"")),"")
A6: =IF(COUNTA(Заявка!$C16:$G16)>0,IF(OR(TRIM(Заявка!$C$4&"")=""),"-",TRIM(Заявка!$C$4&"")),"") | B6: =IF(COUNTA(Заявка!$C16:$G16)>0,IF(OR(TRIM(Заявка!$C$5&"")=""),"-",TRIM(Заявка!$C$5&"")),"") | C6: =IF(COUNTA(Заявка!$C16:$G16)>0,IF(OR(TRIM(Заявка!$C$6&"")=""),"-",TRIM(Заявка!$C$6&"")),"") | D6: =IF(COUNTA(Заявка!$C16:$G16)>0,IF(OR(TRIM(Заявка!$E$6&"")=""),"-",TRIM(Заявка!$E$6&"")),"") | E6: =IF(COUNTA(Заявка!$C16:$G16)>0,IF(OR(TRIM(Заявка!$H$6&"")=""),"-",TRIM(Заявка!$H$6&"")),"") | F6: =IF(COUNTA(Заявка!$C16:$G16)>0,IF(OR(TRIM(Заявка!$C$7&"")=""),"-",TRIM(Заявка!$C$7&"")),"") | G6: =IF(COUNTA(Заявка!$C16:$G16)>0,IF(OR(TRIM(Заявка!$C$12&"")=""),"-",PROPER(TRIM(Заявка!$C$12&""))),"") | H6: =IF(COUNTA(Заявка!$C16:$G16)>0,IF(OR(TRIM(Заявка!$B$8&"")="",TRIM(Заявка!$B$8&"")="igra@ng-sova.ru"),"-",TRIM(Заявка!$B$8&"")),"") | I6: =IF(COUNTA(Заявка!$C16:$G16)>0,IF(OR(TRIM(Заявка!$E$8&"")="",TRIM(Заявка!$E$8&"")="+7 (999) 999-99-99"),"-",TRIM(Заявка!$E$8&"")),"") | J6: =IF(COUNTA(Заявка!$C16:$G16)>0,IF(OR(TRIM(Заявка!$H$8&"")="",TRIM(Заявка!$H$8&"")="https://t.me/username"),"-",TRIM(Заявка!$H$8&"")),"") | K6: =IF(COUNTA(Заявка!$C16:$G16)>0,IF(OR(TRIM(Заявка!$D$21&"")=""),"-",TRIM(Заявка!$D$21&"")),"") | L6: =IF(COUNTA(Заявка!$C16:$G16)>0,IF(TRIM(Заявка!$D$21&"")="Да",IF(OR(TRIM(Заявка!$G$21&"")="",TRIM(Заявка!$G$21&"")="например: Генеральный директор"),"-",TRIM(Заявка!$G$21&"")),"-"),"") | M6: =IF(COUNTA(Заявка!$C16:$G16)>0,IF(TRIM(Заявка!$D$21&"")="Да",IF(OR(TRIM(Заявка!$D$22&"")="",TRIM(Заявка!$D$22&"")="Иванов Иван Иванович"),"-",PROPER(TRIM(Заявка!$D$22&""))),"-"),"") | N6: =IF(COUNTA(Заявка!$C16:$G16)>0,IF(TRIM(Заявка!$D$21&"")="Да",IF(OR(TRIM(Заявка!$D$23&"")="",TRIM(Заявка!$D$23&"")="Иванову Ивану Ивановичу"),"-",PROPER(TRIM(Заявка!$D$23&""))),"-"),"") | O6: =IF(COUNTA(Заявка!$C16:$G16)>0,IF(OR(TRIM(Заявка!$B16&"")=""),"-",TRIM(Заявка!$B16&"")),"") | P6: =IF(COUNTA(Заявка!$C16:$G16)>0,IF(OR(TRIM(Заявка!$A16&"")=""),"-",TRIM(Заявка!$A16&"")),"") | Q6: =IF(COUNTA(Заявка!$C16:$G16)>0,IF(OR(TRIM(Заявка!$C16&"")=""),"-",PROPER(TRIM(Заявка!$C16&""))),"") | R6: =IF(COUNTA(Заявка!$C16:$G16)>0,IF(OR(TRIM(Заявка!$D16&"")=""),"-",TRIM(Заявка!$D16&"")),"") | S6: =IF(COUNTA(Заявка!$C16:$G16)>0,IF(OR(Заявка!$E16="",NOT(ISNUMBER(Заявка!$E16))),"-",Заявка!$E16),"") | T6: =IF(COUNTA(Заявка!$C16:$G16)>0,IF(OR(Заявка!$E16="",NOT(ISNUMBER(Заявка!$E16))),"-",DATEDIF(Заявка!$E16,DATE(2026,12,4),"Y")),"") | U6: =IF(COUNTA(Заявка!$C16:$G16)>0,IF(OR(TRIM(Заявка!$F16&"")=""),"-",TRIM(Заявка!$F16&"")),"") | V6: =IF(COUNTA(Заявка!$C16:$G16)>0,IF(OR(TRIM(Заявка!$G16&"")=""),"-",TRIM(Заявка!$G16&"")),"") | W6: =IF(COUNTA(Заявка!$C16:$G16)>0,IF(OR(TRIM(Заявка!$A$27&"")=""),"-",TRIM(Заявка!$A$27&"")),"")
A7: =IF(COUNTA(Заявка!$C17:$G17)>0,IF(OR(TRIM(Заявка!$C$4&"")=""),"-",TRIM(Заявка!$C$4&"")),"") | B7: =IF(COUNTA(Заявка!$C17:$G17)>0,IF(OR(TRIM(Заявка!$C$5&"")=""),"-",TRIM(Заявка!$C$5&"")),"") | C7: =IF(COUNTA(Заявка!$C17:$G17)>0,IF(OR(TRIM(Заявка!$C$6&"")=""),"-",TRIM(Заявка!$C$6&"")),"") | D7: =IF(COUNTA(Заявка!$C17:$G17)>0,IF(OR(TRIM(Заявка!$E$6&"")=""),"-",TRIM(Заявка!$E$6&"")),"") | E7: =IF(COUNTA(Заявка!$C17:$G17)>0,IF(OR(TRIM(Заявка!$H$6&"")=""),"-",TRIM(Заявка!$H$6&"")),"") | F7: =IF(COUNTA(Заявка!$C17:$G17)>0,IF(OR(TRIM(Заявка!$C$7&"")=""),"-",TRIM(Заявка!$C$7&"")),"") | G7: =IF(COUNTA(Заявка!$C17:$G17)>0,IF(OR(TRIM(Заявка!$C$12&"")=""),"-",PROPER(TRIM(Заявка!$C$12&""))),"") | H7: =IF(COUNTA(Заявка!$C17:$G17)>0,IF(OR(TRIM(Заявка!$B$8&"")="",TRIM(Заявка!$B$8&"")="igra@ng-sova.ru"),"-",TRIM(Заявка!$B$8&"")),"") | I7: =IF(COUNTA(Заявка!$C17:$G17)>0,IF(OR(TRIM(Заявка!$E$8&"")="",TRIM(Заявка!$E$8&"")="+7 (999) 999-99-99"),"-",TRIM(Заявка!$E$8&"")),"") | J7: =IF(COUNTA(Заявка!$C17:$G17)>0,IF(OR(TRIM(Заявка!$H$8&"")="",TRIM(Заявка!$H$8&"")="https://t.me/username"),"-",TRIM(Заявка!$H$8&"")),"") | K7: =IF(COUNTA(Заявка!$C17:$G17)>0,IF(OR(TRIM(Заявка!$D$21&"")=""),"-",TRIM(Заявка!$D$21&"")),"") | L7: =IF(COUNTA(Заявка!$C17:$G17)>0,IF(TRIM(Заявка!$D$21&"")="Да",IF(OR(TRIM(Заявка!$G$21&"")="",TRIM(Заявка!$G$21&"")="например: Генеральный директор"),"-",TRIM(Заявка!$G$21&"")),"-"),"") | M7: =IF(COUNTA(Заявка!$C17:$G17)>0,IF(TRIM(Заявка!$D$21&"")="Да",IF(OR(TRIM(Заявка!$D$22&"")="",TRIM(Заявка!$D$22&"")="Иванов Иван Иванович"),"-",PROPER(TRIM(Заявка!$D$22&""))),"-"),"") | N7: =IF(COUNTA(Заявка!$C17:$G17)>0,IF(TRIM(Заявка!$D$21&"")="Да",IF(OR(TRIM(Заявка!$D$23&"")="",TRIM(Заявка!$D$23&"")="Иванову Ивану Ивановичу"),"-",PROPER(TRIM(Заявка!$D$23&""))),"-"),"") | O7: =IF(COUNTA(Заявка!$C17:$G17)>0,IF(OR(TRIM(Заявка!$B17&"")=""),"-",TRIM(Заявка!$B17&"")),"") | P7: =IF(COUNTA(Заявка!$C17:$G17)>0,IF(OR(TRIM(Заявка!$A17&"")=""),"-",TRIM(Заявка!$A17&"")),"") | Q7: =IF(COUNTA(Заявка!$C17:$G17)>0,IF(OR(TRIM(Заявка!$C17&"")=""),"-",PROPER(TRIM(Заявка!$C17&""))),"") | R7: =IF(COUNTA(Заявка!$C17:$G17)>0,IF(OR(TRIM(Заявка!$D17&"")=""),"-",TRIM(Заявка!$D17&"")),"") | S7: =IF(COUNTA(Заявка!$C17:$G17)>0,IF(OR(Заявка!$E17="",NOT(ISNUMBER(Заявка!$E17))),"-",Заявка!$E17),"") | T7: =IF(COUNTA(Заявка!$C17:$G17)>0,IF(OR(Заявка!$E17="",NOT(ISNUMBER(Заявка!$E17))),"-",DATEDIF(Заявка!$E17,DATE(2026,12,4),"Y")),"") | U7: =IF(COUNTA(Заявка!$C17:$G17)>0,IF(OR(TRIM(Заявка!$F17&"")=""),"-",TRIM(Заявка!$F17&"")),"") | V7: =IF(COUNTA(Заявка!$C17:$G17)>0,IF(OR(TRIM(Заявка!$G17&"")=""),"-",TRIM(Заявка!$G17&"")),"") | W7: =IF(COUNTA(Заявка!$C17:$G17)>0,IF(OR(TRIM(Заявка!$A$27&"")=""),"-",TRIM(Заявка!$A$27&"")),"")
A8: =IF(COUNTA(Заявка!$C18:$G18)>0,IF(OR(TRIM(Заявка!$C$4&"")=""),"-",TRIM(Заявка!$C$4&"")),"") | B8: =IF(COUNTA(Заявка!$C18:$G18)>0,IF(OR(TRIM(Заявка!$C$5&"")=""),"-",TRIM(Заявка!$C$5&"")),"") | C8: =IF(COUNTA(Заявка!$C18:$G18)>0,IF(OR(TRIM(Заявка!$C$6&"")=""),"-",TRIM(Заявка!$C$6&"")),"") | D8: =IF(COUNTA(Заявка!$C18:$G18)>0,IF(OR(TRIM(Заявка!$E$6&"")=""),"-",TRIM(Заявка!$E$6&"")),"") | E8: =IF(COUNTA(Заявка!$C18:$G18)>0,IF(OR(TRIM(Заявка!$H$6&"")=""),"-",TRIM(Заявка!$H$6&"")),"") | F8: =IF(COUNTA(Заявка!$C18:$G18)>0,IF(OR(TRIM(Заявка!$C$7&"")=""),"-",TRIM(Заявка!$C$7&"")),"") | G8: =IF(COUNTA(Заявка!$C18:$G18)>0,IF(OR(TRIM(Заявка!$C$12&"")=""),"-",PROPER(TRIM(Заявка!$C$12&""))),"") | H8: =IF(COUNTA(Заявка!$C18:$G18)>0,IF(OR(TRIM(Заявка!$B$8&"")="",TRIM(Заявка!$B$8&"")="igra@ng-sova.ru"),"-",TRIM(Заявка!$B$8&"")),"") | I8: =IF(COUNTA(Заявка!$C18:$G18)>0,IF(OR(TRIM(Заявка!$E$8&"")="",TRIM(Заявка!$E$8&"")="+7 (999) 999-99-99"),"-",TRIM(Заявка!$E$8&"")),"") | J8: =IF(COUNTA(Заявка!$C18:$G18)>0,IF(OR(TRIM(Заявка!$H$8&"")="",TRIM(Заявка!$H$8&"")="https://t.me/username"),"-",TRIM(Заявка!$H$8&"")),"") | K8: =IF(COUNTA(Заявка!$C18:$G18)>0,IF(OR(TRIM(Заявка!$D$21&"")=""),"-",TRIM(Заявка!$D$21&"")),"") | L8: =IF(COUNTA(Заявка!$C18:$G18)>0,IF(TRIM(Заявка!$D$21&"")="Да",IF(OR(TRIM(Заявка!$G$21&"")="",TRIM(Заявка!$G$21&"")="например: Генеральный директор"),"-",TRIM(Заявка!$G$21&"")),"-"),"") | M8: =IF(COUNTA(Заявка!$C18:$G18)>0,IF(TRIM(Заявка!$D$21&"")="Да",IF(OR(TRIM(Заявка!$D$22&"")="",TRIM(Заявка!$D$22&"")="Иванов Иван Иванович"),"-",PROPER(TRIM(Заявка!$D$22&""))),"-"),"") | N8: =IF(COUNTA(Заявка!$C18:$G18)>0,IF(TRIM(Заявка!$D$21&"")="Да",IF(OR(TRIM(Заявка!$D$23&"")="",TRIM(Заявка!$D$23&"")="Иванову Ивану Ивановичу"),"-",PROPER(TRIM(Заявка!$D$23&""))),"-"),"") | O8: =IF(COUNTA(Заявка!$C18:$G18)>0,IF(OR(TRIM(Заявка!$B18&"")=""),"-",TRIM(Заявка!$B18&"")),"") | P8: =IF(COUNTA(Заявка!$C18:$G18)>0,IF(OR(TRIM(Заявка!$A18&"")=""),"-",TRIM(Заявка!$A18&"")),"") | Q8: =IF(COUNTA(Заявка!$C18:$G18)>0,IF(OR(TRIM(Заявка!$C18&"")=""),"-",PROPER(TRIM(Заявка!$C18&""))),"") | R8: =IF(COUNTA(Заявка!$C18:$G18)>0,IF(OR(TRIM(Заявка!$D18&"")=""),"-",TRIM(Заявка!$D18&"")),"") | S8: =IF(COUNTA(Заявка!$C18:$G18)>0,IF(OR(Заявка!$E18="",NOT(ISNUMBER(Заявка!$E18))),"-",Заявка!$E18),"") | T8: =IF(COUNTA(Заявка!$C18:$G18)>0,IF(OR(Заявка!$E18="",NOT(ISNUMBER(Заявка!$E18))),"-",DATEDIF(Заявка!$E18,DATE(2026,12,4),"Y")),"") | U8: =IF(COUNTA(Заявка!$C18:$G18)>0,IF(OR(TRIM(Заявка!$F18&"")=""),"-",TRIM(Заявка!$F18&"")),"") | V8: =IF(COUNTA(Заявка!$C18:$G18)>0,IF(OR(TRIM(Заявка!$G18&"")=""),"-",TRIM(Заявка!$G18&"")),"") | W8: =IF(COUNTA(Заявка!$C18:$G18)>0,IF(OR(TRIM(Заявка!$A$27&"")=""),"-",TRIM(Заявка!$A$27&"")),"")
